BEGIN:VCALENDAR
VERSION:2.0
PRODID:icalendar-ruby
CALSCALE:GREGORIAN
METHOD:PUBLISH
BEGIN:VEVENT
DTSTAMP:20260421T020856Z
UID:20-402158@fultonalliance.org
DTSTART:20260707T140000Z
DTEND:20260707T150000Z
CLASS:PUBLIC
CREATED:20260420T213151
DESCRIPTION:Prayer TIme
LAST-MODIFIED:20260420T213151
LOCATION:Fulton Alliance Church
SUMMARY:Prayer Time
URL;VALUE=URI:https://www.fultonalliance.org/events/prayer-time--20/2026-07
 -07
END:VEVENT
END:VCALENDAR
