BEGIN:VCALENDAR
VERSION:2.0
PRODID:icalendar-ruby
CALSCALE:GREGORIAN
METHOD:PUBLISH
BEGIN:VEVENT
DTSTAMP:20260421T002158Z
UID:20-401811@fultonalliance.org
DTSTART:20260630T140000Z
DTEND:20260630T150000Z
CLASS:PUBLIC
CREATED:20260420T184755
DESCRIPTION:Prayer TIme
LAST-MODIFIED:20260420T184755
LOCATION:Fulton Alliance Church
SUMMARY:Prayer TIme
URL;VALUE=URI:https://www.fultonalliance.org/events/prayer-time/2026-06-30
END:VEVENT
END:VCALENDAR
