BEGIN:VCALENDAR
VERSION:2.0
PRODID:icalendar-ruby
CALSCALE:GREGORIAN
METHOD:PUBLISH
BEGIN:VEVENT
DTSTAMP:20260420T134329Z
UID:20-400651@fultonalliance.org
DTSTART:20260602T140000Z
DTEND:20260602T150000Z
CLASS:PUBLIC
CREATED:20260420T082843
DESCRIPTION:Prayer TIme
LAST-MODIFIED:20260420T082843
LOCATION:Fulton Alliance Church
SUMMARY:Prayer TIme
URL;VALUE=URI:https://www.fultonalliance.org/events/prayer-time/2026-06-02
END:VEVENT
END:VCALENDAR
