BEGIN:VCALENDAR
VERSION:2.0
PRODID:icalendar-ruby
CALSCALE:GREGORIAN
METHOD:PUBLISH
BEGIN:VEVENT
DTSTAMP:20260420T121307Z
UID:20-400361@fultonalliance.org
DTSTART:20260526T140000Z
DTEND:20260526T150000Z
CLASS:PUBLIC
CREATED:20260420T035425
DESCRIPTION:Prayer TIme
LAST-MODIFIED:20260420T035425
LOCATION:Fulton Alliance Church
SUMMARY:Prayer TIme
URL;VALUE=URI:https://www.fultonalliance.org/events/prayer-time/2026-05-26
END:VEVENT
END:VCALENDAR
