BEGIN:VCALENDAR
VERSION:2.0
PRODID:icalendar-ruby
CALSCALE:GREGORIAN
METHOD:PUBLISH
BEGIN:VEVENT
DTSTAMP:20260420T065723Z
UID:20-400069@fultonalliance.org
DTSTART:20260505T140000Z
DTEND:20260505T150000Z
CLASS:PUBLIC
CREATED:20260420T001701
DESCRIPTION:Prayer TIme
LAST-MODIFIED:20260420T001701
LOCATION:Fulton Alliance Church
SUMMARY:Prayer TIme
URL;VALUE=URI:https://www.fultonalliance.org/events/prayer-time/2026-05-05
END:VEVENT
END:VCALENDAR
