BEGIN:VCALENDAR
VERSION:2.0
PRODID:icalendar-ruby
CALSCALE:GREGORIAN
METHOD:PUBLISH
BEGIN:VEVENT
DTSTAMP:20260420T050339Z
UID:20-400068@fultonalliance.org
DTSTART:20260428T140000Z
DTEND:20260428T150000Z
CLASS:PUBLIC
CREATED:20260420T001700
DESCRIPTION:Prayer TIme
LAST-MODIFIED:20260420T001700
LOCATION:Fulton Alliance Church
SUMMARY:Prayer TIme
URL;VALUE=URI:https://www.fultonalliance.org/events/prayer-time/2026-04-28
END:VEVENT
END:VCALENDAR
