BEGIN:VCALENDAR
VERSION:2.0
PRODID:icalendar-ruby
CALSCALE:GREGORIAN
METHOD:PUBLISH
BEGIN:VEVENT
DTSTAMP:20260420T030557Z
UID:20-399778@fultonalliance.org
DTSTART:20260421T140000Z
DTEND:20260421T150000Z
CLASS:PUBLIC
CREATED:20260419T203959
DESCRIPTION:Prayer TIme
LAST-MODIFIED:20260419T203959
LOCATION:Fulton Alliance Church
SUMMARY:Prayer TIme
URL;VALUE=URI:https://www.fultonalliance.org/events/prayer-time/2026-04-21
END:VEVENT
END:VCALENDAR
