BEGIN:VCALENDAR
VERSION:2.0
PRODID:icalendar-ruby
CALSCALE:GREGORIAN
METHOD:PUBLISH
BEGIN:VEVENT
DTSTAMP:20260422T034526Z
UID:20-403913@fultonalliance.org
DTSTART:20261027T140000Z
DTEND:20261027T150000Z
CLASS:PUBLIC
CREATED:20260421T213815
DESCRIPTION:Prayer TIme
LAST-MODIFIED:20260421T213815
LOCATION:Fulton Alliance Church
SUMMARY:Prayer Time
URL;VALUE=URI:https://www.fultonalliance.org/events/prayer-time--20/2026-10
 -27
END:VEVENT
END:VCALENDAR
