BEGIN:VCALENDAR
VERSION:2.0
PRODID:icalendar-ruby
CALSCALE:GREGORIAN
METHOD:PUBLISH
BEGIN:VEVENT
DTSTAMP:20260422T002638Z
UID:20-403621@fultonalliance.org
DTSTART:20261013T140000Z
DTEND:20261013T150000Z
CLASS:PUBLIC
CREATED:20260421T185957
DESCRIPTION:Prayer TIme
LAST-MODIFIED:20260421T185957
LOCATION:Fulton Alliance Church
SUMMARY:Prayer Time
URL;VALUE=URI:https://www.fultonalliance.org/events/prayer-time--20/2026-10
 -13
END:VEVENT
END:VCALENDAR
