BEGIN:VCALENDAR
VERSION:2.0
PRODID:icalendar-ruby
CALSCALE:GREGORIAN
METHOD:PUBLISH
BEGIN:VEVENT
DTSTAMP:20260421T224606Z
UID:20-403330@fultonalliance.org
DTSTART:20261006T140000Z
DTEND:20261006T150000Z
CLASS:PUBLIC
CREATED:20260421T162115
DESCRIPTION:Prayer TIme
LAST-MODIFIED:20260421T162115
LOCATION:Fulton Alliance Church
SUMMARY:Prayer Time
URL;VALUE=URI:https://www.fultonalliance.org/events/prayer-time--20/2026-10
 -06
END:VEVENT
END:VCALENDAR
