BEGIN:VCALENDAR
VERSION:2.0
PRODID:icalendar-ruby
CALSCALE:GREGORIAN
METHOD:PUBLISH
BEGIN:VEVENT
DTSTAMP:20260421T192736Z
UID:20-403038@fultonalliance.org
DTSTART:20260922T140000Z
DTEND:20260922T150000Z
CLASS:PUBLIC
CREATED:20260421T134533
DESCRIPTION:Prayer TIme
LAST-MODIFIED:20260421T134533
LOCATION:Fulton Alliance Church
SUMMARY:Prayer Time
URL;VALUE=URI:https://www.fultonalliance.org/events/prayer-time--20/2026-09
 -22
END:VEVENT
END:VCALENDAR
