BEGIN:VCALENDAR
VERSION:2.0
PRODID:icalendar-ruby
CALSCALE:GREGORIAN
METHOD:PUBLISH
BEGIN:VEVENT
DTSTAMP:20260423T083755Z
UID:20-405649@fultonalliance.org
DTSTART:20260908T140000Z
DTEND:20260908T150000Z
CLASS:PUBLIC
CREATED:20260422T231803
DESCRIPTION:Prayer TIme
LAST-MODIFIED:20260422T231803
LOCATION:Fulton Alliance Church
SUMMARY:Prayer Time
URL;VALUE=URI:https://www.fultonalliance.org/events/prayer-time--20/2026-09
 -08
END:VEVENT
END:VCALENDAR
