BEGIN:VCALENDAR
VERSION:2.0
PRODID:icalendar-ruby
CALSCALE:GREGORIAN
METHOD:PUBLISH
BEGIN:VEVENT
DTSTAMP:20260421T130158Z
UID:20-402455@fultonalliance.org
DTSTART:20260825T140000Z
DTEND:20260825T150000Z
CLASS:PUBLIC
CREATED:20260421T082948
DESCRIPTION:Prayer TIme
LAST-MODIFIED:20260421T082948
LOCATION:Fulton Alliance Church
SUMMARY:Prayer Time
URL;VALUE=URI:https://www.fultonalliance.org/events/prayer-time--20/2026-08
 -25
END:VEVENT
END:VCALENDAR
