BEGIN:VCALENDAR
VERSION:2.0
PRODID:icalendar-ruby
CALSCALE:GREGORIAN
METHOD:PUBLISH
BEGIN:VEVENT
DTSTAMP:20260421T112653Z
UID:20-402164@fultonalliance.org
DTSTART:20260818T140000Z
DTEND:20260818T150000Z
CLASS:PUBLIC
CREATED:20260420T213151
DESCRIPTION:Prayer TIme
LAST-MODIFIED:20260420T213151
LOCATION:Fulton Alliance Church
SUMMARY:Prayer Time
URL;VALUE=URI:https://www.fultonalliance.org/events/prayer-time--20/2026-08
 -18
END:VEVENT
END:VCALENDAR
