BEGIN:VCALENDAR
VERSION:2.0
PRODID:icalendar-ruby
CALSCALE:GREGORIAN
METHOD:PUBLISH
BEGIN:VEVENT
DTSTAMP:20260420T030125Z
UID:19-399488@fultonalliance.org
DTSTART:20260420T150000Z
DTEND:20260420T170000Z
CLASS:PUBLIC
CREATED:20260419T180751
DESCRIPTION:
LAST-MODIFIED:20260419T180751
LOCATION:Fulton Alliance Church Friendship Room
SUMMARY:Alliance Women's Work Day
URL;VALUE=URI:https://www.fultonalliance.org/events/alliance-womens-work-da
 y/2026-04-20
END:VEVENT
END:VCALENDAR
